BEGIN:VCALENDAR
PRODID:-//ProVeiling.nl//Veilingkalender MIMEDIR//EN
VERSION:2.0
METHOD:PUBLISH
BEGIN:VTIMEZONE
TZID:GMT
BEGIN:STANDARD
TZNAME:GMT
TZOFFSETFROM:+0100
TZOFFSETTO:+0100
END:STANDARD
END:VTIMEZONE
BEGIN:VEVENT

DTSTART:20260506T180000Z
DTEND:20260506T180000Z
LOCATION:,  
CATEGORIES:Sluiting vanaf
TRANSP:OPAQUE
SEQUENCE:0
UID:RFCALITEM639123862179326074
DTSTAMP:20260506T180000Z
DESCRIPTION;ENCODING=QUOTED-PRINTABLE:<strong>In opdracht van belanghebbende veilt ProVeiling o.a.:</strong>&nbsp;PillowUp - Traagschuimkussen 60x40cm |&nbsp;<strong>Excellent Electrics Chocoladefontein 65w &ndash; Bruin</strong>&nbsp;| Wool Blend Ski sokken maat 43-46 - 4 paar |<strong>&nbsp;Disney Yoghurt/soup beaker</strong>&nbsp;| EnerPlex Zwangerschapskussen - 137cm | Desire Satisfyer Gold |&nbsp;<strong>Cirrus Wave Styler</strong>&nbsp;etc.<br /><br /><br /><strong>Attentie: het betreft hier een verzendveiling, kosten binnen NL &euro; 9.95 per kavel of &euro; 14.95 per order.<br /><br /><br /></strong>
SUMMARY:ProVeiling.nl Sluiting vanaf - Veiling van diverse goederen o.a. Chocoladefonteinen, Silvercrest baardtrimmers & Wave Stylers (Verzendveiling)

PRIORITY:5
CLASS:PUBLIC
BEGIN:VALARM
TRIGGER:-PT120M
ACTION:DISPLAY
DESCRIPTION:Reminder
PRIORITY:5
END:VALARM
END:VEVENT
END:VCALENDAR