BEGIN:VCALENDAR
PRODID:-//ProVeiling.nl//Veilingkalender MIMEDIR//EN
VERSION:2.0
METHOD:PUBLISH
BEGIN:VTIMEZONE
TZID:GMT
BEGIN:STANDARD
TZNAME:GMT
TZOFFSETFROM:+0100
TZOFFSETTO:+0100
END:STANDARD
END:VTIMEZONE
BEGIN:VEVENT

DTSTART:20260513T180000Z
DTEND:20260513T180000Z
LOCATION:,  
CATEGORIES:Sluiting vanaf
TRANSP:OPAQUE
SEQUENCE:0
UID:RFCALITEM639125606942149970
DTSTAMP:20260513T180000Z
DESCRIPTION;ENCODING=QUOTED-PRINTABLE:<strong>In opdracht van belanghebbende veilt ProVeiling o.a.:</strong>&nbsp;Professionele GPS drone met 8K HD 3x camera video 4k 5G verbinding met obstacle avoidance &ndash; Zwart |<strong>&nbsp;Drone met HD Camera 4K - 6K Optical zoom - Big Screen Controller</strong>&nbsp;| Drone met 4K Camera &amp; 6K Optical Zoom met Groot Scherm Controller |&nbsp;<strong>Drone met 4k camera &amp; 2 batterijen &ndash; Zwart</strong>&nbsp;| Drone mini met 4k HD camers + obstacle avoidance met opbergvak in de controler incl 1 batterijen |<strong>&nbsp;Drone S met 4k camera, dubbele camera, obstacle avoidance &amp; 1 batterij &ndash; Zwart</strong>&nbsp;etc.
SUMMARY:ProVeiling.nl Sluiting vanaf - Veiling van diverse professionele drones o.a. GPS drone met 8K HD 3x camera video 4k 5G verbinding met Obstacle Avoidance (Gratis verzending binnen NL)

PRIORITY:5
CLASS:PUBLIC
BEGIN:VALARM
TRIGGER:-PT120M
ACTION:DISPLAY
DESCRIPTION:Reminder
PRIORITY:5
END:VALARM
END:VEVENT
END:VCALENDAR