BEGIN:VCALENDAR
PRODID:-//ProVeiling.nl//Veilingkalender MIMEDIR//EN
VERSION:2.0
METHOD:PUBLISH
BEGIN:VTIMEZONE
TZID:GMT
BEGIN:STANDARD
TZNAME:GMT
TZOFFSETFROM:+0100
TZOFFSETTO:+0100
END:STANDARD
END:VTIMEZONE
BEGIN:VEVENT

DTSTART:20260423T100000Z
DTEND:20260423T100000Z
LOCATION:,  
CATEGORIES:Start vanaf
TRANSP:OPAQUE
SEQUENCE:0
UID:RFCALITEM639125606932150224
DTSTAMP:20260423T100000Z
DESCRIPTION;ENCODING=QUOTED-PRINTABLE:In opdracht van belanghebbende veilt ProVeiling o.a.:<strong>&nbsp;Parkside klopboormachine Type: PBH800</strong> |&nbsp;Philips koffiemachine voor filterkoffie |<strong>&nbsp;Kalorik hot chocolade maker</strong> |&nbsp;Decoratie Sagrada Familia basiliek |&nbsp;<strong>Hangklok</strong> |&nbsp;Tomado gourmet |<strong>&nbsp;Bestron halogeen heater Type: AHH1200</strong> |&nbsp;Ledvion IP65 ledlamp |<strong>&nbsp;Inventum magnetron 800 watt </strong>etc.<br /><br /><strong><strong>*Bezichtiging is mogelijk op afspraak via info@proveiling.nl</strong><br /><br /><strong>*Attentie: het betreft hier een verzendveiling, kosten voor verzending zijn &euro;10,00 per kavel. (incl. BTW).</strong></strong>
SUMMARY:ProVeiling.nl Start vanaf - Veiling van diverse Huishoudelijke artikelen, Audio & Apparatuur (Verzendveiling)

PRIORITY:5
CLASS:PUBLIC
BEGIN:VALARM
TRIGGER:-PT120M
ACTION:DISPLAY
DESCRIPTION:Reminder
PRIORITY:5
END:VALARM
END:VEVENT
END:VCALENDAR