BEGIN:VCALENDAR
PRODID:-//ProVeiling.nl//Veilingkalender MIMEDIR//EN
VERSION:2.0
METHOD:PUBLISH
BEGIN:VTIMEZONE
TZID:GMT
BEGIN:STANDARD
TZNAME:GMT
TZOFFSETFROM:+0100
TZOFFSETTO:+0100
END:STANDARD
END:VTIMEZONE
BEGIN:VEVENT

DTSTART:20260423T100000Z
DTEND:20260423T100000Z
LOCATION:,  
CATEGORIES:Start vanaf
TRANSP:OPAQUE
SEQUENCE:0
UID:RFCALITEM639125605979438252
DTSTAMP:20260423T100000Z
DESCRIPTION;ENCODING=QUOTED-PRINTABLE:In opdracht van belanghebbende veilt ProVeiling o.a.:<strong>&nbsp;Necklace</strong> |&nbsp;Men's Ring |<strong>&nbsp;Earrings</strong> |&nbsp;Stainless Steel Men's Bracelet |&nbsp;<strong>Men's Bracelet</strong> etc.
SUMMARY:ProVeiling.nl Start vanaf - Sieradenveiling met o.a. oorbellen & kettingen | Gratis verzending binnen de EU

PRIORITY:5
CLASS:PUBLIC
BEGIN:VALARM
TRIGGER:-PT120M
ACTION:DISPLAY
DESCRIPTION:Reminder
PRIORITY:5
END:VALARM
END:VEVENT
END:VCALENDAR