BEGIN:VCALENDAR
PRODID:-//ProVeiling.nl//Veilingkalender MIMEDIR//EN
VERSION:2.0
METHOD:PUBLISH
BEGIN:VTIMEZONE
TZID:GMT
BEGIN:STANDARD
TZNAME:GMT
TZOFFSETFROM:+0100
TZOFFSETTO:+0100
END:STANDARD
END:VTIMEZONE
BEGIN:VEVENT

DTSTART:20260423T100000Z
DTEND:20260423T100000Z
LOCATION:Hintham 43, 5331 CK Kerkdriel
CATEGORIES:Start vanaf
TRANSP:OPAQUE
SEQUENCE:0
UID:RFCALITEM639125606937162205
DTSTAMP:20260423T100000Z
DESCRIPTION;ENCODING=QUOTED-PRINTABLE:In opdracht van belanghebbende veilt ProVeiling o.a.:<strong>&nbsp;SCHNEIDER SCRL771ABO koelkast</strong> |&nbsp;UGS105-FE-010F Onderbouw vriezer |<strong>&nbsp;SCHOLTES SOTI1520B InbouwKookplaat Inductie</strong> |&nbsp;AEG NSC5S18ZES KOELVRIESKAST |&nbsp;<strong>BEST 07000103A Afzuigkap</strong> |&nbsp;3 DELIG Meubelset&nbsp; DP Home |<strong>&nbsp;Scholtes SODV9610F vaatwasser</strong> etc.
SUMMARY:ProVeiling.nl Start vanaf - Veiling van diverse goederen te Kerkdriel o.a. Keukenmeubelen, inbouwapparatuur en bijzet tafels

PRIORITY:5
CLASS:PUBLIC
BEGIN:VALARM
TRIGGER:-PT120M
ACTION:DISPLAY
DESCRIPTION:Reminder
PRIORITY:5
END:VALARM
END:VEVENT
END:VCALENDAR