BEGIN:VCALENDAR
PRODID:-//ProVeiling.nl//Veilingkalender MIMEDIR//EN
VERSION:2.0
METHOD:PUBLISH
BEGIN:VTIMEZONE
TZID:GMT
BEGIN:STANDARD
TZNAME:GMT
TZOFFSETFROM:+0100
TZOFFSETTO:+0100
END:STANDARD
END:VTIMEZONE
BEGIN:VEVENT

DTSTART:20260508T140000Z
DTEND:20260508T150000Z
LOCATION:Produktieweg 9, 8304AV Emmeloord
CATEGORIES:Ophaaldag
TRANSP:OPAQUE
SEQUENCE:0
UID:RFCALITEM639127665976762360
DTSTAMP:20260508T140000Z
DESCRIPTION;ENCODING=QUOTED-PRINTABLE:In opdracht van belanghebbende veilt ProVeiling o.a.:&nbsp;<strong>Growatt, drie-fase slimme meter DTSU666</strong> |&nbsp;Sonthelrmer, hoofdschakelaar |&nbsp;<strong>Growatt, hybrid Inverter MOD 4000TL3-XH</strong> |&nbsp;Growatt, Lithium-ion batterijen S1 &amp; S2 etc.
SUMMARY:ProVeiling.nl Ophaaldag - Veiling van diverse Growatt goederen te Emmeloord

PRIORITY:5
CLASS:PUBLIC
BEGIN:VALARM
TRIGGER:-PT120M
ACTION:DISPLAY
DESCRIPTION:Reminder
PRIORITY:5
END:VALARM
END:VEVENT
END:VCALENDAR