BEGIN:VCALENDAR
PRODID:-//ProVeiling.nl//Veilingkalender MIMEDIR//EN
VERSION:2.0
METHOD:PUBLISH
BEGIN:VTIMEZONE
TZID:GMT
BEGIN:STANDARD
TZNAME:GMT
TZOFFSETFROM:+0100
TZOFFSETTO:+0100
END:STANDARD
END:VTIMEZONE
BEGIN:VEVENT

DTSTART:20260503T180000Z
DTEND:20260503T180000Z
LOCATION:Veldweg 38A, 6075NL Herkenbosch
CATEGORIES:Sluiting vanaf
TRANSP:OPAQUE
SEQUENCE:0
UID:RFCALITEM639127588274701693
DTSTAMP:20260503T180000Z
DESCRIPTION;ENCODING=QUOTED-PRINTABLE:In opdracht van belanghebbende veilt ProVeiling diverse goederen te Herkenbosch. In deze veiling wordt o.a. het volgende aangeboden:<strong>&nbsp;REFUrBISHED Liebherr diepvries tafelmodel kast</strong> |&nbsp;Sharp Magnetron |&nbsp;<strong>Philips Mobiele Zonnebank HB 812/A</strong> |&nbsp;REFURBISHED - Everglades EVFR523 Diepvrieskist |<strong>&nbsp;Refurbished Samsung WW90M760NOA/EN wasmachine</strong> |&nbsp;&nbsp;Vintage Secretaire van Massief Hout etc.
SUMMARY:ProVeiling.nl Sluiting vanaf - Veiling van diverse witgoed & meubilair te Herkenbosch

PRIORITY:5
CLASS:PUBLIC
BEGIN:VALARM
TRIGGER:-PT120M
ACTION:DISPLAY
DESCRIPTION:Reminder
PRIORITY:5
END:VALARM
END:VEVENT
END:VCALENDAR